BEGIN:VCALENDAR
VERSION:2.0
PRODID:-//wp-events-plugin.com//7.2.3.1//EN
BEGIN:VEVENT
UID:479@nordalsacefoot.com
DTSTART:20260503T080000Z
DTEND:20260503T160000Z
DTSTAMP:20260410T082452Z
URL:https://nordalsacefoot.com/events/marche-de-la-kirwe-du-fc-rott-2/
SUMMARY:Marche de la Kirwe du FC Rott
DESCRIPTION:Le Football Club de Rott organise\, le 3 mai dès 9h00\, sa tra
 ditionnelle marche de la Kirwe au départ de la salle communale de Rott. L
 es départs pour un parcours de 8km se feront de 9h à 11h pour un tarif d
 e 3€/participants. Au service de midi\, le club vous proposera du sangli
 er à la broche accompagné de frites à 12€ (150 portions)\, des escalo
 pes marinées accompagné de frites (10€) ou des grillades (saucisses bl
 anches ou merguez). Pour réserver vos repas\, veuillez prendre contact av
 ec Steven au 0658693025 ou avec Ilona au 0761892186 ou par e-mail à l'adr
 esse stevenlana67160@gmail.com.
ATTACH;FMTTYPE=image/jpeg:https://nordalsacefoot.com/wp-content/uploads/20
 26/04/IMG_5779.jpeg
CATEGORIES:Marche populaire,Repas
LOCATION:salle communale de Rott\, Rue du Stade\, Rott\, Grand Est\, 67160\
 , France
X-APPLE-STRUCTURED-LOCATION;VALUE=URI;X-ADDRESS=Rue du Stade\, Rott\, Grand
  Est\, 67160\, France;X-APPLE-RADIUS=100;X-TITLE=salle communale de Rott:g
 eo:0,0
END:VEVENT
END:VCALENDAR